BEGIN:VCALENDAR
VERSION:2.0
PRODID:Imitheme.com 
BEGIN:VEVENT
UID:20260425T213123861963984
DTSTAMP;TZID=UTC:2026-04-25 21:31:23
DTSTART;TZID=America/Los_Angeles:20240609T000000
DTEND;TZID=America/Los_Angeles:20240609T000000
SUMMARY:Dialog-Abend
LOCATION:
DESCRIPTION:  
URL:https://www.friedenskirche-ingelheim.de/vielseitiger/dialogabend/
END:VEVENT
END:VCALENDAR
