BEGIN:VCALENDAR
VERSION:2.0
PRODID:Imitheme.com 
BEGIN:VEVENT
UID:20260420T052309560416234
DTSTAMP;TZID=UTC:2026-04-20 05:23:09
DTSTART;TZID=America/Los_Angeles:20260426T000000
DTEND;TZID=America/Los_Angeles:20260426T000000
SUMMARY:Live-Übersetzung mit App
LOCATION:
DESCRIPTION:
URL:https://www.friedenskirche-ingelheim.de/vielseitiger/live-uebersetzung-mit-app-eng-farsi-ukrainisch/
END:VEVENT
END:VCALENDAR
