BEGIN:VCALENDAR
VERSION:2.0
PRODID:Imitheme.com 
BEGIN:VEVENT
UID:20260422T16443130435582
DTSTAMP;TZID=UTC:2026-04-22 16:44:31
DTSTART;TZID=America/Los_Angeles:20260531T000000
DTEND;TZID=America/Los_Angeles:20260531T000000
SUMMARY:Die Friedenskirche kennenlernen
LOCATION:
DESCRIPTION:
URL:https://www.friedenskirche-ingelheim.de/vielseitiger/die-friedenskirche-kennenlernen/
END:VEVENT
END:VCALENDAR
