BEGIN:VCALENDAR
VERSION:2.0
PRODID:Imitheme.com 
BEGIN:VEVENT
UID:20260420T054012514335321
DTSTAMP;TZID=UTC:2026-04-20 05:40:12
DTSTART;TZID=America/Los_Angeles:20260613T000000
DTEND;TZID=America/Los_Angeles:20260613T000000
SUMMARY:Talentshow
LOCATION:
DESCRIPTION:
URL:https://www.friedenskirche-ingelheim.de/vielseitiger/talentshow/
END:VEVENT
END:VCALENDAR
